BEGIN:VCALENDAR
VERSION:2.0
PRODID:-//Christian Unity - ECPv6.15.20//NONSGML v1.0//EN
CALSCALE:GREGORIAN
METHOD:PUBLISH
X-ORIGINAL-URL:https://christianunitybc.com
X-WR-CALDESC:Events for Christian Unity
REFRESH-INTERVAL;VALUE=DURATION:PT1H
X-Robots-Tag:noindex
X-PUBLISHED-TTL:PT1H
BEGIN:VTIMEZONE
TZID:UTC
BEGIN:STANDARD
TZOFFSETFROM:+0000
TZOFFSETTO:+0000
TZNAME:UTC
DTSTART:20160101T000000
END:STANDARD
END:VTIMEZONE
BEGIN:VEVENT
DTSTART;TZID=UTC:20181231T093000
DTEND;TZID=UTC:20181231T170000
DTSTAMP:20260425T034926
CREATED:20181129T173244Z
LAST-MODIFIED:20181210T174924Z
UID:25186-1546248600-1546275600@christianunitybc.com
SUMMARY:New Year's Eve Celebration
DESCRIPTION:Our New Year’s Eve service will be held at CUBC this year!
URL:https://christianunitybc.com/event/new-years-eve-celebration/
LOCATION:Christian Unity Baptist Church\, 11822 Park Waldorf Lane\, Waldorf\, MD\, 20601\, United States
ORGANIZER;CN="Christian Unity Baptist Church":MAILTO:contact@christianunitybc.com
END:VEVENT
BEGIN:VEVENT
DTSTART;TZID=UTC:20181209T080000
DTEND;TZID=UTC:20181209T130000
DTSTAMP:20260425T034926
CREATED:20181129T173546Z
LAST-MODIFIED:20181129T173546Z
UID:25189-1544342400-1544360400@christianunitybc.com
SUMMARY:Men & Women's Day
DESCRIPTION:
URL:https://christianunitybc.com/event/men-womens-day-2/
LOCATION:Christian Unity Baptist Church\, 11822 Park Waldorf Lane\, Waldorf\, MD\, 20601\, United States
ORGANIZER;CN="Christian Unity Baptist Church":MAILTO:contact@christianunitybc.com
END:VEVENT
BEGIN:VEVENT
DTSTART;TZID=UTC:20181208T110000
DTEND;TZID=UTC:20181208T160000
DTSTAMP:20260425T034926
CREATED:20181108T151024Z
LAST-MODIFIED:20181129T172956Z
UID:25177-1544266800-1544284800@christianunitybc.com
SUMMARY:Women of Worship 4 sisters only
DESCRIPTION:
URL:https://christianunitybc.com/event/25177/
LOCATION:Christian Unity Baptist Church\, 11822 Park Waldorf Lane\, Waldorf\, MD\, 20601\, United States
END:VEVENT
BEGIN:VEVENT
DTSTART;TZID=UTC:20181122T100000
DTEND;TZID=UTC:20181122T110000
DTSTAMP:20260425T034926
CREATED:20181108T145051Z
LAST-MODIFIED:20181108T145122Z
UID:25166-1542880800-1542884400@christianunitybc.com
SUMMARY:Thanksgiving Service 2018
DESCRIPTION:
URL:https://christianunitybc.com/event/thanksgiving-service-2018/
LOCATION:Christian Unity Baptist Church\, 11822 Park Waldorf Lane\, Waldorf\, MD\, 20601\, United States
ORGANIZER;CN="Christian Unity Baptist Church":MAILTO:contact@christianunitybc.com
END:VEVENT
BEGIN:VEVENT
DTSTART;TZID=UTC:20181112T190000
DTEND;TZID=UTC:20181114T190000
DTSTAMP:20260425T034926
CREATED:20181108T145350Z
LAST-MODIFIED:20181108T150422Z
UID:25173-1542049200-1542222000@christianunitybc.com
SUMMARY:Fall Revival 2018
DESCRIPTION:
URL:https://christianunitybc.com/event/fall-revival-2018/
LOCATION:Christian Unity Baptist Church\, 11822 Park Waldorf Lane\, Waldorf\, MD\, 20601\, United States
ORGANIZER;CN="Christian Unity Baptist Church":MAILTO:contact@christianunitybc.com
END:VEVENT
BEGIN:VEVENT
DTSTART;TZID=UTC:20181104T100000
DTEND;TZID=UTC:20181104T120000
DTSTAMP:20260425T034926
CREATED:20181010T135504Z
LAST-MODIFIED:20181010T135504Z
UID:25145-1541325600-1541332800@christianunitybc.com
SUMMARY:Teen Church Kick-off
DESCRIPTION:
URL:https://christianunitybc.com/event/teen-church-kick-off/
LOCATION:Christian Unity Baptist Church\, 11822 Park Waldorf Lane\, Waldorf\, MD\, 20601\, United States
END:VEVENT
BEGIN:VEVENT
DTSTART;TZID=UTC:20181028T080000
DTEND;TZID=UTC:20181028T120000
DTSTAMP:20260425T034926
CREATED:20180912T170037Z
LAST-MODIFIED:20180912T170037Z
UID:25134-1540713600-1540728000@christianunitybc.com
SUMMARY:Pastoral Appreciation Day
DESCRIPTION:
URL:https://christianunitybc.com/event/pastoral-appreciation-day/
LOCATION:Christian Unity Baptist Church\, 11822 Park Waldorf Lane\, Waldorf\, MD\, 20601\, United States
ORGANIZER;CN="Christian Unity Baptist Church":MAILTO:contact@christianunitybc.com
END:VEVENT
BEGIN:VEVENT
DTSTART;TZID=UTC:20180922T100000
DTEND;TZID=UTC:20180922T140000
DTSTAMP:20260425T034926
CREATED:20180904T110443Z
LAST-MODIFIED:20180904T110443Z
UID:25122-1537610400-1537624800@christianunitybc.com
SUMMARY:New Members Orientation
DESCRIPTION:
URL:https://christianunitybc.com/event/new-members-orientation-6/
LOCATION:Christian Unity Baptist Church\, 11822 Park Waldorf Lane\, Waldorf\, MD\, 20601\, United States
END:VEVENT
BEGIN:VEVENT
DTSTART;TZID=UTC:20180826T090000
DTEND;TZID=UTC:20180826T230000
DTSTAMP:20260425T034926
CREATED:20180724T145312Z
LAST-MODIFIED:20180724T145312Z
UID:25114-1535274000-1535324400@christianunitybc.com
SUMMARY:SMO Closeout
DESCRIPTION:
URL:https://christianunitybc.com/event/smo-closeout/
LOCATION:Christian Unity Baptist Church\, 11822 Park Waldorf Lane\, Waldorf\, MD\, 20601\, United States
ORGANIZER;CN="Christian Unity Baptist Church":MAILTO:contact@christianunitybc.com
END:VEVENT
BEGIN:VEVENT
DTSTART;TZID=UTC:20180722T090000
DTEND;TZID=UTC:20180722T110000
DTSTAMP:20260425T034926
CREATED:20180626T164447Z
LAST-MODIFIED:20180709T121938Z
UID:25093-1532250000-1532257200@christianunitybc.com
SUMMARY:Family & Friends Homecoming Service
DESCRIPTION:
URL:https://christianunitybc.com/event/family-friends-homecoming-service/
LOCATION:Christian Unity Baptist Church\, 11822 Park Waldorf Lane\, Waldorf\, MD\, 20601\, United States
ORGANIZER;CN="Christian Unity Baptist Church":MAILTO:contact@christianunitybc.com
END:VEVENT
BEGIN:VEVENT
DTSTART;TZID=UTC:20180623T100000
DTEND;TZID=UTC:20180623T140000
DTSTAMP:20260425T034926
CREATED:20180606T164335Z
LAST-MODIFIED:20180606T164335Z
UID:25082-1529748000-1529762400@christianunitybc.com
SUMMARY:Pt. II Leadership Training
DESCRIPTION:
URL:https://christianunitybc.com/event/pt-ii-leadership-training/
LOCATION:Christian Unity Baptist Church\, 11822 Park Waldorf Lane\, Waldorf\, MD\, 20601\, United States
ORGANIZER;CN="Christian Unity Baptist Church":MAILTO:contact@christianunitybc.com
END:VEVENT
BEGIN:VEVENT
DTSTART;TZID=UTC:20180615T190000
DTEND;TZID=UTC:20180615T210000
DTSTAMP:20260425T034926
CREATED:20180606T164159Z
LAST-MODIFIED:20180606T164159Z
UID:25080-1529089200-1529096400@christianunitybc.com
SUMMARY:Father's Day FUN NIGHT
DESCRIPTION:
URL:https://christianunitybc.com/event/fathers-day-fun-night/
LOCATION:Christian Unity Baptist Church\, 11822 Park Waldorf Lane\, Waldorf\, MD\, 20601\, United States
ORGANIZER;CN="Christian Unity Baptist Church":MAILTO:contact@christianunitybc.com
END:VEVENT
BEGIN:VEVENT
DTSTART;TZID=UTC:20180601T000000
DTEND;TZID=UTC:20180902T233000
DTSTAMP:20260425T034926
CREATED:20180611T170253Z
LAST-MODIFIED:20180611T180942Z
UID:25089-1527811200-1535931000@christianunitybc.com
SUMMARY:Summer Youth Reading Program
DESCRIPTION:
URL:https://christianunitybc.com/event/summer-youth-reading-program/
LOCATION:Christian Unity Baptist Church\, 11822 Park Waldorf Lane\, Waldorf\, MD\, 20601\, United States
END:VEVENT
BEGIN:VEVENT
DTSTART;TZID=UTC:20180522T190000
DTEND;TZID=UTC:20180523T203000
DTSTAMP:20260425T034926
CREATED:20180514T155203Z
LAST-MODIFIED:20180514T165451Z
UID:25048-1527015600-1527107400@christianunitybc.com
SUMMARY:Kingdom Camp Meeting Weekday Services
DESCRIPTION:
URL:https://christianunitybc.com/event/25048/
LOCATION:Christian Unity Baptist Church\, 11822 Park Waldorf Lane\, Waldorf\, MD\, 20601\, United States
ORGANIZER;CN="Christian Unity Baptist Church":MAILTO:contact@christianunitybc.com
END:VEVENT
BEGIN:VEVENT
DTSTART;TZID=UTC:20180520T100000
DTEND;TZID=UTC:20180520T120000
DTSTAMP:20260425T034926
CREATED:20180326T215112Z
LAST-MODIFIED:20180326T215112Z
UID:25006-1526810400-1526817600@christianunitybc.com
SUMMARY:Bike Blessing
DESCRIPTION:
URL:https://christianunitybc.com/event/bike-blessing/
LOCATION:Christian Unity Baptist Church\, 11822 Park Waldorf Lane\, Waldorf\, MD\, 20601\, United States
ORGANIZER;CN="Christian Unity Baptist Church":MAILTO:contact@christianunitybc.com
END:VEVENT
BEGIN:VEVENT
DTSTART;TZID=UTC:20180520T080000
DTEND;TZID=UTC:20180520T120000
DTSTAMP:20260425T034926
CREATED:20180413T171017Z
LAST-MODIFIED:20180413T171017Z
UID:25039-1526803200-1526817600@christianunitybc.com
SUMMARY:H20 Biker Worship & Kingdom Camp Meeting Kickoff
DESCRIPTION:
URL:https://christianunitybc.com/event/h20-biker-worship-kingdom-camp-meeting-kickoff/
LOCATION:Christian Unity Baptist Church\, 11822 Park Waldorf Lane\, Waldorf\, MD\, 20601\, United States
ORGANIZER;CN="Christian Unity Baptist Church":MAILTO:contact@christianunitybc.com
END:VEVENT
BEGIN:VEVENT
DTSTART;TZID=UTC:20180427T063000
DTEND;TZID=UTC:20180427T233000
DTSTAMP:20260425T034926
CREATED:20180212T170857Z
LAST-MODIFIED:20180212T172053Z
UID:24947-1524810600-1524871800@christianunitybc.com
SUMMARY:Sight & Sound Bus Trip
DESCRIPTION:
URL:https://christianunitybc.com/event/sight-sound-bus-trip/
LOCATION:Christian Unity Baptist Church\, 11822 Park Waldorf Lane\, Waldorf\, MD\, 20601\, United States
END:VEVENT
BEGIN:VEVENT
DTSTART;TZID=UTC:20180407T100000
DTEND;TZID=UTC:20180407T140000
DTSTAMP:20260425T034926
CREATED:20180315T143954Z
LAST-MODIFIED:20180315T143954Z
UID:24992-1523095200-1523109600@christianunitybc.com
SUMMARY:New Member's Orientation
DESCRIPTION:
URL:https://christianunitybc.com/event/new-members-orientation-5/
LOCATION:Christian Unity Baptist Church\, 11822 Park Waldorf Lane\, Waldorf\, MD\, 20601\, United States
ORGANIZER;CN="Christian Unity Baptist Church":MAILTO:contact@christianunitybc.com
END:VEVENT
BEGIN:VEVENT
DTSTART;TZID=UTC:20180401T080000
DTEND;TZID=UTC:20180401T120000
DTSTAMP:20260425T034926
CREATED:20180323T110309Z
LAST-MODIFIED:20180323T110309Z
UID:24998-1522569600-1522584000@christianunitybc.com
SUMMARY:Resurrection Sunday at CUBC
DESCRIPTION:
URL:https://christianunitybc.com/event/resurrection-sunday-at-cubc/
LOCATION:Christian Unity Baptist Church\, 11822 Park Waldorf Lane\, Waldorf\, MD\, 20601\, United States
ORGANIZER;CN="Christian Unity Baptist Church":MAILTO:contact@christianunitybc.com
END:VEVENT
BEGIN:VEVENT
DTSTART;TZID=UTC:20180325T080000
DTEND;TZID=UTC:20180325T170000
DTSTAMP:20260425T034926
CREATED:20180305T181632Z
LAST-MODIFIED:20180305T181632Z
UID:24983-1521964800-1521997200@christianunitybc.com
SUMMARY:Church 36th Anniversary
DESCRIPTION:
URL:https://christianunitybc.com/event/church-36th-anniversary/
LOCATION:Christian Unity Baptist Church\, 11822 Park Waldorf Lane\, Waldorf\, MD\, 20601\, United States
ORGANIZER;CN="Christian Unity Baptist Church":MAILTO:contact@christianunitybc.com
END:VEVENT
BEGIN:VEVENT
DTSTART;TZID=UTC:20180311T080000
DTEND;TZID=UTC:20180311T120000
DTSTAMP:20260425T034926
CREATED:20180305T182337Z
LAST-MODIFIED:20180305T182337Z
UID:24988-1520755200-1520769600@christianunitybc.com
SUMMARY:All Tithing Sunday
DESCRIPTION:
URL:https://christianunitybc.com/event/all-tithing-sunday/
LOCATION:Christian Unity Baptist Church\, 11822 Park Waldorf Lane\, Waldorf\, MD\, 20601\, United States
ORGANIZER;CN="Christian Unity Baptist Church":MAILTO:contact@christianunitybc.com
END:VEVENT
BEGIN:VEVENT
DTSTART;TZID=UTC:20180310T100000
DTEND;TZID=UTC:20180310T140000
DTSTAMP:20260425T034926
CREATED:20180212T171123Z
LAST-MODIFIED:20180212T172352Z
UID:24951-1520676000-1520690400@christianunitybc.com
SUMMARY:Lift Leadership Training
DESCRIPTION:
URL:https://christianunitybc.com/event/lift-leadership-training/
LOCATION:Christian Unity Baptist Church\, 11822 Park Waldorf Lane\, Waldorf\, MD\, 20601\, United States
ORGANIZER;CN="Christian Unity Baptist Church":MAILTO:contact@christianunitybc.com
END:VEVENT
BEGIN:VEVENT
DTSTART;TZID=UTC:20180304T130000
DTEND;TZID=UTC:20180304T140000
DTSTAMP:20260425T034926
CREATED:20180212T173356Z
LAST-MODIFIED:20180212T173523Z
UID:24963-1520168400-1520172000@christianunitybc.com
SUMMARY:Baptism Sunday
DESCRIPTION:BAPTISM is scheduled for March 4\, 2018 at Lighthouse Baptist Church\, 3150 Middletown Rd\, Waldorf\, Md. Baptism will start promptly at 1:00 pm. If you are interested in being baptized please sign your name on the sign-up sheet in the Information Center.  For more information please see Pastor Karen Hale or call the church office on 301-638-3866.
URL:https://christianunitybc.com/event/baptism-sunday/
LOCATION:Lighthouse Baptist Church\, 3150 Middletown Rd\, Waldorf\, Md\, 3150 Middleton Road\, Waldorf\, MD
ORGANIZER;CN="Christian Unity Baptist Church":MAILTO:contact@christianunitybc.com
END:VEVENT
BEGIN:VEVENT
DTSTART;TZID=UTC:20180221T190000
DTEND;TZID=UTC:20180328T190000
DTSTAMP:20260425T034926
CREATED:20180122T162400Z
LAST-MODIFIED:20180122T162400Z
UID:24914-1519239600-1522263600@christianunitybc.com
SUMMARY:Lenten Revival
DESCRIPTION:
URL:https://christianunitybc.com/event/lenten-revival/
LOCATION:Christian Unity Baptist Church\, 11822 Park Waldorf Lane\, Waldorf\, MD\, 20601\, United States
ORGANIZER;CN="Christian Unity Baptist Church":MAILTO:contact@christianunitybc.com
END:VEVENT
BEGIN:VEVENT
DTSTART;TZID=UTC:20180113T100000
DTEND;TZID=UTC:20180113T120000
DTSTAMP:20260425T034926
CREATED:20171229T141204Z
LAST-MODIFIED:20180103T193128Z
UID:24896-1515837600-1515844800@christianunitybc.com
SUMMARY:Women's Ministry 2018 Kickoff
DESCRIPTION:
URL:https://christianunitybc.com/event/womens-ministry-2018-kickoff/
LOCATION:Christian Unity Baptist Church\, 11822 Park Waldorf Lane\, Waldorf\, MD\, 20601\, United States
END:VEVENT
BEGIN:VEVENT
DTSTART;TZID=UTC:20171231T100000
DTEND;TZID=UTC:20171231T100000
DTSTAMP:20260425T034926
CREATED:20171219T174646Z
LAST-MODIFIED:20171219T174646Z
UID:24887-1514714400-1514714400@christianunitybc.com
SUMMARY:New Year's Eve Services
DESCRIPTION:There are two services on Sunday\, December 31st. \n\n\n10:00 AM service at Christian Unity Baptist Church\n\n\nWatch Night service at 9:30 PM will be held at North Point High School
URL:https://christianunitybc.com/event/new-years-eve-services/
LOCATION:Christian Unity Baptist Church\, 11822 Park Waldorf Lane\, Waldorf\, MD\, 20601\, United States
ORGANIZER;CN="Christian Unity Baptist Church":MAILTO:contact@christianunitybc.com
END:VEVENT
BEGIN:VEVENT
DTSTART;TZID=UTC:20171224T100000
DTEND;TZID=UTC:20171224T123000
DTSTAMP:20260425T034926
CREATED:20171212T123248Z
LAST-MODIFIED:20171212T123248Z
UID:24880-1514109600-1514118600@christianunitybc.com
SUMMARY:Christmas Cantata
DESCRIPTION:
URL:https://christianunitybc.com/event/christmas-cantata/
LOCATION:Christian Unity Baptist Church\, 11822 Park Waldorf Lane\, Waldorf\, MD\, 20601\, United States
ORGANIZER;CN="Christian Unity Baptist Church":MAILTO:contact@christianunitybc.com
END:VEVENT
BEGIN:VEVENT
DTSTART;TZID=UTC:20171209T120000
DTEND;TZID=UTC:20171209T160000
DTSTAMP:20260425T034926
CREATED:20171115T120904Z
LAST-MODIFIED:20171115T142434Z
UID:24850-1512820800-1512835200@christianunitybc.com
SUMMARY:4 Sisters Only Event
DESCRIPTION:
URL:https://christianunitybc.com/event/4-sisters-only-event/
LOCATION:Christian Unity Baptist Church\, 11822 Park Waldorf Lane\, Waldorf\, MD\, 20601\, United States
ORGANIZER;CN="Christian Unity Baptist Church":MAILTO:contact@christianunitybc.com
END:VEVENT
BEGIN:VEVENT
DTSTART;TZID=UTC:20171123T100000
DTEND;TZID=UTC:20171123T120000
DTSTAMP:20260425T034926
CREATED:20171109T141310Z
LAST-MODIFIED:20171109T141430Z
UID:24846-1511431200-1511438400@christianunitybc.com
SUMMARY:2017 Thanksgiving Day Service
DESCRIPTION:
URL:https://christianunitybc.com/event/2017-thanksgiving-day-service/
LOCATION:Christian Unity Baptist Church\, 11822 Park Waldorf Lane\, Waldorf\, MD\, 20601\, United States
ORGANIZER;CN="Christian Unity Baptist Church":MAILTO:contact@christianunitybc.com
END:VEVENT
BEGIN:VEVENT
DTSTART;TZID=UTC:20171113T190000
DTEND;TZID=UTC:20171115T210000
DTSTAMP:20260425T034926
CREATED:20171027T180249Z
LAST-MODIFIED:20171027T180249Z
UID:24833-1510599600-1510779600@christianunitybc.com
SUMMARY:Fall Revival 2017
DESCRIPTION:
URL:https://christianunitybc.com/event/fall-revival-2017/
LOCATION:Christian Unity Baptist Church\, 11822 Park Waldorf Lane\, Waldorf\, MD\, 20601\, United States
ORGANIZER;CN="Christian Unity Baptist Church":MAILTO:contact@christianunitybc.com
END:VEVENT
END:VCALENDAR